BEGIN:VCALENDAR
VERSION:2.0
PRODID:icalendar-ruby
CALSCALE:GREGORIAN
METHOD:PUBLISH
BEGIN:VEVENT
DTSTAMP:20260420T060510Z
UID:118-1781209@crowsnestchristiancentre.com
DTSTART:20260929T163000Z
DTEND:20260929T180000Z
CLASS:PUBLIC
CREATED:20260419T225405
DESCRIPTION:
LAST-MODIFIED:20260419T225405
LOCATION:
SUMMARY:Tuesday Morning Prayer
URL;VALUE=URI:https://www.crowsnestchristiancentre.com/events/tuesday-morni
 ng-prayer/2026-09-29
ATTACH;FILENAME=May-Landscape-1-small.jpg;FMTTYPE=image/jpeg:https://dq5pwp
 g1q8ru0.cloudfront.net/2024/10/07/21/43/21/c83cd687-3acd-4a49-a394-b92f239
 26cac/May-Landscape-1-small.jpg
END:VEVENT
END:VCALENDAR
